BEGIN:VCALENDAR
VERSION:2.0
PRODID:-//ChamberMaster//Event Calendar 2.0//EN
METHOD:PUBLISH
X-PUBLISHED-TTL:P3D
REFRESH-INTERVAL:P3D
CALSCALE:GREGORIAN
BEGIN:VEVENT
DTSTART:20260417T010000Z
DTEND:20260417T033000Z
X-MICROSOFT-CDO-ALLDAYEVENT:FALSE
SUMMARY:What Would You Do? Let’s Find Out Together.Sno-King So.
DESCRIPTION:What Would You Do? Let's Find Out Together.\n\nJoin us for this month's Sno-King South Chapter Meeting where we dive into real-world scenarios and challenges from the shop floor. This interactive session is all about sharing experiences\, problem-solving as a group\, and discovering better ways to handle customer interactions\, navigate difficult situations\, and improve processes in your business.\n\nThis isn't just a meeting it's a chance to collaborate\, learn from each other\, and walk away with ideas you can use right away.\n\nGot a Scenario? Bring It!\n\nHave a situation you'd like the group to weigh in on? Send it ahead of time to Todd Ainsworth at swedishauto.ws@gmail.com so we can include it in the discussion.\n\n\nCome ready to share\, learn\, and sharpen your approach alongside fellow independent auto repair professionals. We're building better shops together.\n \n\nEveryone is welcome to attend\, either in-person or via zoom!!!\n\n\n\n6:00pm - Social and Dinner (16500 Southcenter Pkwy Tukwila\, WA. 98188)\n\n                (Located inside the Doubletree Hotel at Southcenter)\n\n6:30pm - Presentation/Zoom Starts\n\n\n\nJoin Zoom Meeting:\n\n\n\nhttps://us02web.zoom.us/j/88069547913\n\n---\n\nOne tap mobile:\n\n\n\n+12532158782\n\nMeeting ID: 880 6954 7913
X-ALT-DESC;FMTTYPE=text/html:<div>\n<p data-end="285" data-start="238" style="color: rgb(0\, 0\, 0)\; font-size: medium\;"><strong data-end="285" data-start="238">What Would You Do? Let&rsquo\;s Find Out Together.</strong></p>\n\n<p data-end="637" data-start="287" style="color: rgb(0\, 0\, 0)\; font-size: medium\;">Join us for this month&rsquo\;s Sno-King South Chapter Meeting where we dive into real-world scenarios and challenges from the shop floor. This interactive session is all about sharing experiences\, problem-solving as a group\, and discovering better ways to handle customer interactions\, navigate difficult situations\, and improve processes in your business.</p>\n\n<p data-end="766" data-start="639" style="color: rgb(0\, 0\, 0)\; font-size: medium\;">This isn&rsquo\;t just a meeting&mdash\;it&rsquo\;s a chance to collaborate\, learn from each other\, and walk away with ideas you can use right away.</p>\n\n<p data-end="802" data-start="773" style="color: rgb(0\, 0\, 0)\; font-size: medium\;"><strong data-end="802" data-start="773">Got a Scenario? Bring It!</strong></p>\n\n<p data-end="969" data-start="804" style="color: rgb(0\, 0\, 0)\; font-size: medium\;">Have a situation you&rsquo\;d like the group to weigh in on? Send it ahead of time to Todd Ainsworth at <strong data-end="929" data-start="901"><a class="decorated-link cursor-pointer" data-end="927" data-start="903" rel="noopener">swedishauto.ws@gmail.com<span aria-hidden="true" class="ms-0.5 inline-block align-middle leading-none"><svg aria-hidden="true" class="block h-[0.75em] w-[0.75em] stroke-current stroke-[0.75]" data-rtl-flip="" height="20" width="20" xmlns="http://www.w3.org/2000/svg"><use fill="currentColor" href="/cdn/assets/sprites-core-lbtco6v1.svg#304883"></use></svg></span></a></strong> so we can include it in the discussion.</p>\n\n<hr data-end="974" data-start="971" style="font-size: medium\;" />\n<p data-end="1123" data-start="976" style="color: rgb(0\, 0\, 0)\; font-size: medium\;">Come ready to share\, learn\, and sharpen your approach alongside fellow independent auto repair professionals. We&rsquo\;re building better shops&mdash\;together.</p>\n&nbsp\;\n\n<div style="box-sizing: border-box\; margin: 0px\; padding: 0px\; border: 0px\; outline: 0px\; text-size-adjust: 100%\; vertical-align: baseline\; background-image: initial\; background-position: initial\; background-size: initial\; background-repeat: initial\; background-attachment: initial\; background-origin: initial\; background-clip: initial\; color: rgb(0\, 0\, 0)\; font-family: Arial\, Helvetica\, sans-serif\;"><span style="font-size:14px\;"><strong>Everyone is welcome to attend\, either in-person or via zoom!!!</strong><br />\n<br />\n6:00pm - Social and Dinner <strong>(16500 Southcenter Pkwy Tukwila\, WA. 98188)</strong></span><br />\n&nbsp\;&nbsp\;&nbsp\;&nbsp\;&nbsp\;&nbsp\;&nbsp\;&nbsp\;&nbsp\;&nbsp\;&nbsp\;&nbsp\;&nbsp\;&nbsp\;&nbsp\;&nbsp\;(<strong style="font-size: 14px\;">Located inside the Doubletree Hotel at Southcenter)</strong><br />\n<span style="font-size:14px\;">6:30pm - Presentation/Zoom Starts<br />\n<br />\n<strong>Join Zoom Meeting:</strong><br />\n<br />\n<a href="https://us02web.zoom.us/j/88069547913">https://us02web.zoom.us/j/88069547913</a><br />\n---<br />\n<strong>One tap mobile:</strong><br />\n<br />\n+12532158782<br />\n<span style="color: rgb(0\, 0\, 0)\; font-family: Arial\, Helvetica\, sans-serif\; text-align: center\;">Meeting ID: 880 6954 7913</span></span></div>\n</div>\n<br />\n&nbsp\;
LOCATION:Northwest Landing Restaurant Located inside the Doubletree Hotel at Southcenter 16500 Southcenter Pkwy Tukwila\, WA. 98188 6pm - Social and Dinner 6:30pm - Presentation/Zoom Starts Join With Zoom: https://us02web.zoom.us/j/88069547913
UID:e.9183.5305
SEQUENCE:3
DTSTAMP:20260421T231802Z
URL:http://asanorthwest.memberzone.com/events/details/what-would-you-do-let-s-find-out-together-sno-king-so-5305
END:VEVENT

END:VCALENDAR
