BEGIN:VCALENDAR
VERSION:2.0
PRODID:-//ChamberMaster//Event Calendar 2.0//EN
METHOD:PUBLISH
X-PUBLISHED-TTL:P3D
REFRESH-INTERVAL:P3D
CALSCALE:GREGORIAN
BEGIN:VEVENT
DTSTART:20260407T190000Z
DTEND:20260407T200000Z
X-MICROSOFT-CDO-ALLDAYEVENT:FALSE
SUMMARY:Collision Lunch & Learn-Tired of short pays? Develop YOUR Consumers’ Guide to Fully-reimbursed Auto Claims
DESCRIPTION:Develop YOUR Consumers' Guide to Fully-reimbursed Auto Claims:\n\n\n\nThis session is intended to help collision repair businesses compile available resources to aid their customer with a step-by-step guide to help CONSUMERS directly petition for full reimbursement of their auto claims.\n\nMany consumers face obstacles in the claims settlement process when the responsible insurance company fails to recognize the full extent of repair costs billed by the collision repair business for a safe repair. If your customer is facing push back on\; rates\, necessary procedures as outlined in the database guides\, OEM service repair procedures\, or any other costs required for a safe repair\, this seminar will help clarify and document the steps required for the consumer to achieve full reimbursement for their auto claim.\n\n \n\nAttendees will be better equipped to help consumers to fully understand:\n\n  How their auto collision "loss" is actually quantified\n\n  Their auto policy and specifically what is promised by contract\n\n  What OEM service procedures prescribe and why they matter\n\n  First-party versus third-party claims and how they may differ\n\n  How to work with a repair facility to communicate and effectively justify the loss costs \n\n \n\nThis is YOUR opportunity to create a playbook for your team   and a guide for your customer   that addresses some of the most difficult conversations in the claims and repair\n\nProcess.\n \n\nPresented by: Tim Ronak\,\n\nSenior Service Consultant AkzoNobe\n\n \n\nEveryone is welcome to attend\, via zoom!!!\n\n12:00pm - Presentation/Zoom Starts\n\nhttps://us02web.zoom.us/j/83656525644\n\nMeeting ID: 836 5652 5644\n\nOne tap mobile: \n\n(253) 205-0468 \n\nMeeting ID: 836 5652 5644
X-ALT-DESC;FMTTYPE=text/html:<div style="font-family: Aptos\, Aptos_EmbeddedFont\, Aptos_MSFontService\, Calibri\, Helvetica\, sans-serif\; font-size: 12pt\; color: rgb(0\, 0\, 0)\;"><u><b style="color: rgb(0\, 0\, 0)\; font-family: Aptos\, Aptos_EmbeddedFont\, Aptos_MSFontService\, Calibri\, Helvetica\, sans-serif\; font-size: 18.6667px\;">Develop YOUR Consumers&rsquo\; Guide to Fully-reimbursed Auto Claims:</b></u><br />\n<br />\nThis session is intended to help collision repair businesses compile available resources to aid their customer with a step-by-step guide to help CONSUMERS directly petition for full reimbursement of their auto claims.</div>\n\n<div style="font-family: Aptos\, Aptos_EmbeddedFont\, Aptos_MSFontService\, Calibri\, Helvetica\, sans-serif\; font-size: 12pt\; color: rgb(0\, 0\, 0)\;">Many consumers face obstacles in the claims settlement process when the responsible insurance company fails to recognize the full extent of repair costs billed by the collision repair business for a safe repair. If your customer is facing push back on\; rates\, necessary procedures as outlined in the database guides\, OEM service repair procedures\, or any other costs required for a safe repair\, this seminar will help clarify and document the steps required for the consumer to achieve full reimbursement for their auto claim.</div>\n\n<div style="font-family: Aptos\, Aptos_EmbeddedFont\, Aptos_MSFontService\, Calibri\, Helvetica\, sans-serif\; font-size: 12pt\; color: rgb(0\, 0\, 0)\;">&nbsp\;</div>\n\n<div style="font-family: Aptos\, Aptos_EmbeddedFont\, Aptos_MSFontService\, Calibri\, Helvetica\, sans-serif\; font-size: 12pt\; color: rgb(0\, 0\, 0)\;"><strong>Attendees will be better equipped to help consumers to fully understand:</strong></div>\n\n<div style="font-family: Aptos\, Aptos_EmbeddedFont\, Aptos_MSFontService\, Calibri\, Helvetica\, sans-serif\; font-size: 12pt\; color: rgb(0\, 0\, 0)\;">&bull\; How their auto collision &ldquo\;loss&rdquo\; is actually quantified</div>\n\n<div style="font-family: Aptos\, Aptos_EmbeddedFont\, Aptos_MSFontService\, Calibri\, Helvetica\, sans-serif\; font-size: 12pt\; color: rgb(0\, 0\, 0)\;">&bull\; Their auto policy and specifically what is promised by contract</div>\n\n<div style="font-family: Aptos\, Aptos_EmbeddedFont\, Aptos_MSFontService\, Calibri\, Helvetica\, sans-serif\; font-size: 12pt\; color: rgb(0\, 0\, 0)\;">&bull\; What OEM service procedures prescribe and why they matter</div>\n\n<div style="font-family: Aptos\, Aptos_EmbeddedFont\, Aptos_MSFontService\, Calibri\, Helvetica\, sans-serif\; font-size: 12pt\; color: rgb(0\, 0\, 0)\;">&bull\; First-party versus third-party claims and how they may differ</div>\n\n<div style="font-family: Aptos\, Aptos_EmbeddedFont\, Aptos_MSFontService\, Calibri\, Helvetica\, sans-serif\; font-size: 12pt\; color: rgb(0\, 0\, 0)\;">&bull\; How to work with a repair facility to communicate and effectively justify the loss costs&nbsp\;</div>\n\n<div style="font-family: Aptos\, Aptos_EmbeddedFont\, Aptos_MSFontService\, Calibri\, Helvetica\, sans-serif\; font-size: 12pt\; color: rgb(0\, 0\, 0)\;">&nbsp\;</div>\n\n<div style="font-family: Aptos\, Aptos_EmbeddedFont\, Aptos_MSFontService\, Calibri\, Helvetica\, sans-serif\; font-size: 12pt\; color: rgb(0\, 0\, 0)\;">This is YOUR opportunity to create a playbook for your team &mdash\; and a guide for your customer &mdash\; that addresses some of the most difficult conversations in the claims and repair</div>\n\n<div style="font-family: Aptos\, Aptos_EmbeddedFont\, Aptos_MSFontService\, Calibri\, Helvetica\, sans-serif\; font-size: 12pt\; color: rgb(0\, 0\, 0)\;">Process.</div>\n&nbsp\;\n\n<div style="font-family: Aptos\, Aptos_EmbeddedFont\, Aptos_MSFontService\, Calibri\, Helvetica\, sans-serif\; font-size: 12pt\; color: rgb(0\, 0\, 0)\;"><strong>Presented by: Tim Ronak\,</strong></div>\n\n<div style="font-family: Aptos\, Aptos_EmbeddedFont\, Aptos_MSFontService\, Calibri\, Helvetica\, sans-serif\; font-size: 12pt\; color: rgb(0\, 0\, 0)\;"><strong>Senior Service Consultant AkzoNobe</strong></div>\n\n<div>&nbsp\;</div>\n\n<h1 dir="ltr" style="line-height: 1.38\; box-sizing: border-box\; margin: 0pt 0px 12pt 36pt\; padding: 0px 0px 10px\; border: 0px\; outline: 0px\; font-size: 22px\; text-size-adjust: 100%\; vertical-align: baseline\; background-image: initial\; background-position: initial\; background-size: initial\; background-repeat: initial\; background-attachment: initial\; background-origin: initial\; background-clip: initial\; color: rgb(0\, 0\, 0)\; font-family: Arial\, Helvetica\, sans-serif\;"><span style="font-size:14px\;"><u style="box-sizing: border-box\; margin: 0px\; padding: 0px\; border: 0px\; outline: 0px\; text-size-adjust: 100%\; vertical-align: baseline\; background: transparent\;"><span style="box-sizing: border-box\; margin: 0px\; padding: 0px\; border: 0px\; outline: 0px\; text-size-adjust: 100%\; vertical-align: baseline\; background: transparent\;"><span style="box-sizing: border-box\; margin: 0px\; padding: 0px\; border: 0px\; outline: 0px\; text-size-adjust: 100%\; vertical-align: baseline\; background: transparent\; font-weight: bolder\;">Everyone is welcome to attend\,&nbsp\;via zoom!!!</span></span></u><br style="box-sizing: border-box\;" />\n<span style="box-sizing: border-box\; margin: 0px\; padding: 0px\; border: 0px\; outline: 0px\; text-size-adjust: 100%\; vertical-align: baseline\; background: transparent\;"><span style="box-sizing: border-box\; margin: 0px\; padding: 0px\; border: 0px\; outline: 0px\; text-size-adjust: 100%\; vertical-align: baseline\; background: transparent\;">12:00pm - Presentation/Zoom Starts</span></span><br />\n<a href="https://us02web.zoom.us/j/83656525644">https://us02web.zoom.us/j/83656525644</a><br />\nMeeting ID:&nbsp\;836 5652 5644<br />\nOne tap mobile:&nbsp\;<br />\n(253) 205-0468&nbsp\;</span><br />\n<span style="font-size: 14px\;">Meeting ID:&nbsp\;836 5652 5644</span></h1>\n
LOCATION:Everyone is welcome to attend\, via zoom!!! 12:00pm - Presentation/Zoom Starts https://us02web.zoom.us/j/83656525644 Meeting ID: 836 5652 5644 One tap mobile: (253) 205-0468 Meeting ID: 836 5652 5644
UID:e.9183.5302
SEQUENCE:3
DTSTAMP:20260421T231556Z
URL:http://asanorthwest.memberzone.com/events/details/collision-lunch-learn-develop-your-consumers-guide-to-fully-reimbursed-auto-claims-5302
END:VEVENT

END:VCALENDAR
