BEGIN:VCALENDAR
VERSION:2.0
PRODID:-//ChamberMaster//Event Calendar 2.0//EN
METHOD:PUBLISH
X-PUBLISHED-TTL:P3D
REFRESH-INTERVAL:P3D
CALSCALE:GREGORIAN
BEGIN:VEVENT
DTSTART:20260421T190000Z
DTEND:20260421T203000Z
X-MICROSOFT-CDO-ALLDAYEVENT:FALSE
SUMMARY:Lunch & Learn Cyber attacks on small businesses are rising fast -OLY-PENN
DESCRIPTION:Cyber attacks on small businesses are rising fast   and many companies don't realize how vulnerable they are until it's too late.\n\nDon't wait until it happens to you. Join us for a high-impact presentation on today's IT security threat landscape and learn how to actively protect your business from the most common cyber attacks happening right now.\n\nIn this session\, we'll cover:\n\n  The biggest cybersecurity threats targeting small businesses today\n\n  Real-world examples of how these attacks actually happen\n\n  Practical defenses you can put in place immediately\n\n  How to reduce risk and keep your systems\, data\, and customers protected\n\nWe'll also touch on AI and security\, including key edge cases where businesses need to be smart and intentional with new tools.\n\nIf you run a small business\, manage technology\, or want to truly understand the risks your company faces   this is information you can't afford to miss.\n\n\n\n \n\n\n\nEveryone is welcome to attend\, via zoom!!!\n\n\n\n\n\n12:00pm - Presentation/Zoom Starts\n\n\n\nJoin Zoom Meeting:\n\nhttps://us02web.zoom.us/j/83656525644\n\n\n\nMeeting ID: 836 5652 5644\n\n---\n\nOne tap mobile\n\n+12532050468
X-ALT-DESC;FMTTYPE=text/html:<div style="font-family: Aptos\, Aptos_EmbeddedFont\, Aptos_MSFontService\, Calibri\, Helvetica\, sans-serif\; font-size: 12pt\; color: rgb(0\, 0\, 0)\;">\n<div style="direction: ltr\; margin: 16px 0px\; font-family: Aptos\, Aptos_EmbeddedFont\, Aptos_MSFontService\, Calibri\, Helvetica\, sans-serif\; font-size: 12pt\; color: rgb(0\, 0\, 0)\;">\n<p data-end="193" data-start="58"><span style="font-size:14px\;"><strong data-end="191" data-start="58">Cyber attacks on small businesses are rising fast &mdash\; and many companies don&rsquo\;t realize how vulnerable they are until it&rsquo\;s too late.</strong></span></p>\n\n<p data-end="419" data-start="195"><span style="font-size:14px\;"><strong data-end="234" data-start="195">Don&rsquo\;t wait until it happens to you.</strong> Join us for a high-impact presentation on today&rsquo\;s IT security threat landscape and learn how to actively protect your business from the most common cyber attacks happening right now.</span></p>\n\n<p data-end="720" data-start="421"><span style="font-size:14px\;"><strong data-end="454" data-start="421">In this session\, we&rsquo\;ll cover:</strong><br data-end="457" data-start="454" />\n&bull\; The biggest cybersecurity threats targeting small businesses today<br data-end="528" data-start="525" />\n&bull\; Real-world examples of how these attacks actually happen<br data-end="589" data-start="586" />\n&bull\; Practical defenses you can put in place immediately<br data-end="645" data-start="642" />\n&bull\; How to reduce risk and keep your systems\, data\, and customers protected</span></p>\n\n<p data-end="851" data-start="722"><span style="font-size:14px\;">We&rsquo\;ll also touch on AI and security\, including key edge cases where businesses need to be smart and intentional with new tools.</span></p>\n\n<p data-end="1011" data-start="853"><span style="font-size:14px\;"><strong data-end="1009" data-start="853">If you run a small business\, manage technology\, or want to truly understand the risks your company faces &mdash\; this is information you can&rsquo\;t afford to miss.</strong></span></p>\n</div>\n</div>\n\n<div>&nbsp\;</div>\n\n<p class="p1" style="margin: 0px\; font-variant-numeric: normal\; font-variant-east-asian: normal\; font-stretch: normal\; font-size: 12px\; line-height: normal\; font-family: Helvetica\; color: rgb(0\, 0\, 0)\;"><br />\n<span style="font-size:14px\;"><strong><u>Everyone is welcome to attend\, via zoom!!!</u></strong><br />\n<br />\n<br style="box-sizing: border-box\;" />\n<u><span style="box-sizing: border-box\; margin: 0px\; padding: 0px\; border: 0px\; outline: 0px\; text-size-adjust: 100%\; vertical-align: baseline\; background: transparent\;"><span style="box-sizing: border-box\; margin: 0px\; padding: 0px\; border: 0px\; outline: 0px\; text-size-adjust: 100%\; vertical-align: baseline\; background: transparent\;">12:00pm - Presentation/Zoom Starts</span></span></u><br />\n<br />\n<u><strong>Join Zoom Meeting:</strong></u></span></p>\n\n<div style="font-family: Aptos\, Aptos_EmbeddedFont\, Aptos_MSFontService\, Calibri\, Helvetica\, sans-serif\; font-size: 14pt\; color: rgb(0\, 0\, 0)\;"><span style="font-size:14px\;"><a href="https://us02web.zoom.us/j/83656525644">https://us02web.zoom.us/j/83656525644</a><br />\n<br />\nMeeting ID: 836 5652 5644<br />\n---<br />\nOne tap mobile<br />\n+12532050468</span></div>\n
LOCATION:Everyone is welcome to attend\, via zoom!!! 12:00pm - Zoom Presentation/Zoom Start Join Zoom Meeting: https://us02web.zoom.us/j/83656525644 Meeting ID: 836 5652 5644 --- One tap mobile +12532050468
UID:e.9183.5303
SEQUENCE:3
DTSTAMP:20260421T231744Z
URL:http://asanorthwest.memberzone.com/events/details/collision-lunch-learn-cyber-attacks-on-small-businesses-are-rising-fast-5303
END:VEVENT

END:VCALENDAR
